BEGIN:VCALENDAR
VERSION:2.0
PRODID:-//Boy Scout Trade-O-Ree Calendar - ECPv6.15.20//NONSGML v1.0//EN
CALSCALE:GREGORIAN
METHOD:PUBLISH
X-WR-CALNAME:Boy Scout Trade-O-Ree Calendar
X-ORIGINAL-URL:https://www.bsator.com
X-WR-CALDESC:Events for Boy Scout Trade-O-Ree Calendar
REFRESH-INTERVAL;VALUE=DURATION:PT1H
X-Robots-Tag:noindex
X-PUBLISHED-TTL:PT1H
BEGIN:VTIMEZONE
TZID:UTC
BEGIN:STANDARD
TZOFFSETFROM:+0000
TZOFFSETTO:+0000
TZNAME:UTC
DTSTART:20200101T000000
END:STANDARD
END:VTIMEZONE
BEGIN:VEVENT
DTSTART;TZID=UTC:20250516T170000
DTEND;TZID=UTC:20250517T150000
DTSTAMP:20260423T200927
CREATED:20250329T001748Z
LAST-MODIFIED:20250402T152312Z
UID:10000581-1747414800-1747494000@www.bsator.com
SUMMARY:5th Annual Mountain West Council Trade-O-Ree - State: Idaho
DESCRIPTION:Date: May 16-17\, 2025 \nAddress:\nTen Mile Christian Church\n3500 W Franklin Road\nMeridian\, Idaho 83642 \nTimes:\nFriday: 5pm – 10pm\nSaturday: 9am – 3pm \nContact: Phil Young\nEmail: armyammo@live.com\nPhone: ? \nContact: David Borchers\nEmail: david.borchers@scouting.org\nPhone: (208) 376-4411 \n \nTrade-O-Ree Flyer\n\n\n    Download the PDF file .
URL:https://www.bsator.com/event/5th-annual-mountain-west-council-trade-o-ree-state-idaho/
LOCATION:Ten Mile Christian Church\, 3500 W Franklin Road\, Meridian\, ID\, 83642\, United States
ATTACH;FMTTYPE=image/jpeg:https://www.bsator.com/wp-content/uploads/2025/03/49590a10-a137-48c2-9898-6d775682a3a9.jpg
ORGANIZER;CN="David Borchers":MAILTO:david.borchers@scouting.org
END:VEVENT
BEGIN:VEVENT
DTSTART;TZID=UTC:20240517T170000
DTEND;TZID=UTC:20240518T150000
DTSTAMP:20260423T200927
CREATED:20240417T165125Z
LAST-MODIFIED:20240929T041956Z
UID:10000529-1715965200-1716044400@www.bsator.com
SUMMARY:4th Annual Mountain West Council Trade-O-Ree - State: Idaho
DESCRIPTION:Date: May 17-18\, 2024 \nAddress:\nTen Mile Christian Church\n3500 W Franklin Road\nMeridian\, Idaho 83642 \nTimes:\nFriday: 5pm – 10pm\nSaturday: 9am – 3pm \nContact: Lynn Gunter\nEmail: Lynn.gunter@scouting.org\nPhone: (208) 500-8787 \n \nTrade-O-Ree Flyer\n\n\n    Download the PDF file . \n\n\n \nView The Auction Catalog\n\n\n    Download the PDF file .
URL:https://www.bsator.com/event/4th-annual-mountain-west-council-trade-o-ree-state-idaho/
LOCATION:Ten Mile Christian Church\, 3500 W Franklin Road\, Meridian\, ID\, 83642\, United States
ATTACH;FMTTYPE=image/jpeg:https://www.bsator.com/wp-content/uploads/2016/06/SWAPSHOP_zpsd7821994-4-1.jpg.opt430x360o00s430x360-4-1.jpg
ORGANIZER;CN="Lynn Gunter":MAILTO:Lynn.Gunter@scouting.org
END:VEVENT
BEGIN:VEVENT
DTSTART;TZID=UTC:20230519T170000
DTEND;TZID=UTC:20230520T150000
DTSTAMP:20260423T200927
CREATED:20221021T161639Z
LAST-MODIFIED:20230513T071026Z
UID:10000460-1684515600-1684594800@www.bsator.com
SUMMARY:3nd Annual Mountain West Council Trade-O-Ree - State: Idaho
DESCRIPTION:Date: May 19-20\, 2023 \nAddress:\nTen Mile Christian Church\n3500 W Franklin Road\nMeridian\, Idaho 83642 \nTimes:\nFriday: 5pm – 10pm\nSaturday: 9am – 3pm \nContact: Scott Moreland\nEmail: beaglscout@gmail.com\nPhone: (559) 361-9113 \n \nTrade-O-Ree Flyer\n\n\n    Download the PDF file . \n \n \nLive Auction Items\n\n\n    Download the PDF file .
URL:https://www.bsator.com/event/3nd-annual-mountain-west-council-trade-o-ree-state-idaho/
LOCATION:Ten Mile Christian Church\, 3500 W Franklin Road\, Meridian\, ID\, 83642\, United States
ATTACH;FMTTYPE=image/jpeg:https://www.bsator.com/wp-content/uploads/2016/06/SWAPSHOP_zpsd7821994-4-1.jpg.opt430x360o00s430x360-4-1.jpg
ORGANIZER;CN="Scott Moreland":MAILTO:beaglscout@gmail.com
END:VEVENT
BEGIN:VEVENT
DTSTART;TZID=UTC:20220603T170000
DTEND;TZID=UTC:20220604T160000
DTSTAMP:20260423T200928
CREATED:20211104T173154Z
LAST-MODIFIED:20211104T174147Z
UID:10000408-1654275600-1654358400@www.bsator.com
SUMMARY:2nd Annual Mountain West Council Trade-O-Ree - State: Idaho
DESCRIPTION:Date: June 3-4\, 2022 \nAddress:\nTen Mile Christian Church\n3500 W Franklin Road\nMeridian\, Idaho 83642 \nTimes:\nFriday: 5pm – 11pm\nSaturday: 8am – 4pm \nContact 1: Scott Moreland\nEmail: beaglscout@gmail.com\nPhone: (559) 361-9113 \nThe QR Code on the flyer takes you to the 2021 Event. Click the link below for the 2022 Event.\nReserve Tables Here \n \nTrade-O-Ree Flyer\n\n\n    Download the PDF file .
URL:https://www.bsator.com/event/2nd-annual-mountain-west-council-trade-o-ree-state-idaho/
LOCATION:Ten Mile Christian Church\, 3500 W Franklin Road\, Meridian\, ID\, 83642\, United States
ATTACH;FMTTYPE=image/jpeg:https://www.bsator.com/wp-content/uploads/2016/06/SWAPSHOP_zpsd7821994-4-1.jpg.opt430x360o00s430x360-4-1.jpg
ORGANIZER;CN="Scott Moreland":MAILTO:beaglscout@gmail.com
END:VEVENT
BEGIN:VEVENT
DTSTART;TZID=UTC:20210604T170000
DTEND;TZID=UTC:20210605T160000
DTSTAMP:20260423T200928
CREATED:20210422T180925Z
LAST-MODIFIED:20210422T181122Z
UID:10000387-1622826000-1622908800@www.bsator.com
SUMMARY:Mountain West Council Trade-O-Ree - State: Idaho
DESCRIPTION:Date: June 4-5\, 2021 \nAddress:\nTen Mile Christian Church\n3500 W Franklin Road\nMeridian\, Idaho 83642 \nTimes:\nFriday: 5pm – 11pm\nSaturday: 9am – 4pm \nContact 1: Richard Sotto\nEmail: richard.sotto@scouting.org\nPhone: (208) 376-4411 \n \nTrade-O-Ree Flyer\n\n\n    Download the PDF file .
URL:https://www.bsator.com/event/mountain-west-council-trade-o-ree-state-idaho/
LOCATION:Ten Mile Christian Church\, 3500 W Franklin Road\, Meridian\, ID\, 83642\, United States
ATTACH;FMTTYPE=image/jpeg:https://www.bsator.com/wp-content/uploads/2016/06/SWAPSHOP_zpsd7821994-4-1.jpg.opt430x360o00s430x360-4-1.jpg
ORGANIZER;CN="Richard Sotto":MAILTO:richard.sotto@scouting.org
END:VEVENT
END:VCALENDAR