BEGIN:VCALENDAR
VERSION:2.0
PRODID:-//Boy Scout Trade-O-Ree Calendar - ECPv6.15.20//NONSGML v1.0//EN
CALSCALE:GREGORIAN
METHOD:PUBLISH
X-WR-CALNAME:Boy Scout Trade-O-Ree Calendar
X-ORIGINAL-URL:https://www.bsator.com
X-WR-CALDESC:Events for Boy Scout Trade-O-Ree Calendar
REFRESH-INTERVAL;VALUE=DURATION:PT1H
X-Robots-Tag:noindex
X-PUBLISHED-TTL:PT1H
BEGIN:VTIMEZONE
TZID:UTC
BEGIN:STANDARD
TZOFFSETFROM:+0000
TZOFFSETTO:+0000
TZNAME:UTC
DTSTART:20240101T000000
END:STANDARD
END:VTIMEZONE
BEGIN:VEVENT
DTSTART;TZID=UTC:20250314T140000
DTEND;TZID=UTC:20250315T140000
DTSTAMP:20260423T190637
CREATED:20240209T024702Z
LAST-MODIFIED:20250114T175626Z
UID:10000330-1741960800-1742047200@www.bsator.com
SUMMARY:41st Annual Pittsburgh Trade-O-Ree - State: Pennsylvania
DESCRIPTION:Date: March 14-15\, 2025 \nAddress:\nThe Orchard at Oak Ridge\n1214 Oakridge Rd.\nMcDonald\, PA 15057 \nTimes:\nFriday: 2pm – 12am (Midnight)\nSaturday: 8:30am – 2pm \nContact: Todd Rogers\nEmail: trogers17@gmail.com\nPhone: (703) 618-4106 \nRegister Now\n\n \nTrade-O-Ree Flyer\n\n\n    Download the PDF file .
URL:https://www.bsator.com/event/41st-annual-pittsburgh-trade-o-ree-state-pennsylvania/
LOCATION:The Orchard at Oak Ridge\, 1214 Oakridge Rd.\, McDonald\, 15057\, United States
ATTACH;FMTTYPE=image/jpeg:https://www.bsator.com/wp-content/uploads/2016/05/1933334_1717737895110489_7154625735922781739_o.jpg.opt415x311o00s415x311.jpg
ORGANIZER;CN="Todd Rogers":MAILTO:todd.rogers@gmail.com
END:VEVENT
END:VCALENDAR