BEGIN:VCALENDAR
VERSION:2.0
PRODID:-//Boy Scout Trade-O-Ree Calendar - ECPv6.15.20//NONSGML v1.0//EN
CALSCALE:GREGORIAN
METHOD:PUBLISH
X-ORIGINAL-URL:https://www.bsator.com
X-WR-CALDESC:Events for Boy Scout Trade-O-Ree Calendar
REFRESH-INTERVAL;VALUE=DURATION:PT1H
X-Robots-Tag:noindex
X-PUBLISHED-TTL:PT1H
BEGIN:VTIMEZONE
TZID:UTC
BEGIN:STANDARD
TZOFFSETFROM:+0000
TZOFFSETTO:+0000
TZNAME:UTC
DTSTART:20150101T000000
END:STANDARD
END:VTIMEZONE
BEGIN:VEVENT
DTSTART;TZID=UTC:20250307T160000
DTEND;TZID=UTC:20250308T140000
DTSTAMP:20260423T174350
CREATED:20250321T141716Z
LAST-MODIFIED:20250321T141716Z
UID:10000575-1741363200-1741442400@www.bsator.com
SUMMARY:2025 Girl Scout Collectors Show - State: North Carolina
DESCRIPTION:Date: March 7-8\, 2025 \nAddress:\nTrinity Reformed Church of Christ\n217 2nd Ave NE\nConover\, NC 28613 \nTimes:\nFriday: 4pm – 8pm\nSaturday: 9am – 2pm \nContact 1: Becky Byrns\nEmail: GSShow@aol.com\nPhone: (828) 569-2035 \nRegister Now\n\n    Download the PDF file .
URL:https://www.bsator.com/event/2025-girl-scout-collectors-show-state-north-carolina/
LOCATION:Trinity Reformed Church of Christ\, 217 2nd Ave NE\, Conover\, NC 28613
ATTACH;FMTTYPE=image/jpeg:https://www.bsator.com/wp-content/uploads/2018/12/46508259_10212729489408998_2116976435166969856_o.jpg
ORGANIZER;CN="Becky Byrns":MAILTO:GSShow@aol.com
GEO:35.709376;-81.214855
X-APPLE-STRUCTURED-LOCATION;VALUE=URI;X-ADDRESS=Trinity Reformed Church of Christ 217 2nd Ave NE Conover NC 28613;X-APPLE-RADIUS=500;X-TITLE=217 2nd Ave NE:geo:-81.214855,35.709376
END:VEVENT
BEGIN:VEVENT
DTSTART;TZID=UTC:20200320T160000
DTEND;TZID=UTC:20200321T140000
DTSTAMP:20260423T174350
CREATED:20200227T172716Z
LAST-MODIFIED:20200317T041111Z
UID:10000171-1584720000-1584799200@www.bsator.com
SUMMARY:CANCELED: 2020 Girl Scout Collectors Show - State: North Carolina
DESCRIPTION:THIS EVENT HAS BEEN CANCELEDDUE TO THE CORONAVIRUS\n \n \nDate: March 20-21\, 2020 \nAddress:\nTrinity Reformed Church of Christ\n217 2nd Ave NE\nConover\, NC 28613 \nTimes:\nFriday: 4pm – 8pm\nSaturday: 9am – 2pm \nContact 1: Becky Byrns\nEmail: GSShow@aol.com\nPhone: (828) 569-2035 \nRegister Now\n\n    Download the PDF file .
URL:https://www.bsator.com/event/2020-girl-scout-collectors-show-state-north-carolina/
LOCATION:Trinity Reformed Church of Christ\, 217 2nd Ave NE\, Conover\, NC 28613
ATTACH;FMTTYPE=image/jpeg:https://www.bsator.com/wp-content/uploads/2018/12/46508259_10212729489408998_2116976435166969856_o.jpg
ORGANIZER;CN="Becky Byrns":MAILTO:GSShow@aol.com
GEO:35.709376;-81.214855
X-APPLE-STRUCTURED-LOCATION;VALUE=URI;X-ADDRESS=Trinity Reformed Church of Christ 217 2nd Ave NE Conover NC 28613;X-APPLE-RADIUS=500;X-TITLE=217 2nd Ave NE:geo:-81.214855,35.709376
END:VEVENT
BEGIN:VEVENT
DTSTART;TZID=UTC:20190517T160000
DTEND;TZID=UTC:20190518T140000
DTSTAMP:20260423T174350
CREATED:20181207T172702Z
LAST-MODIFIED:20181213T195029Z
UID:10000109-1558108800-1558188000@www.bsator.com
SUMMARY:2019 Girl Scout Collectors Show - State: North Carolina
DESCRIPTION:Date: May 17-18\, 2019 \nAddress:\nTrinity Reformed Church of Christ\n217 2nd Ave NE\nConover\, NC 28613 \nTimes:\nFriday: 4pm – 8pm\nSaturday: 9am – 2pm \nContact 1: Becky Byrns\nEmail: GSShow@aol.com\nPhone: (828) 569-2035 \nRegister Now\n\n    Download the PDF file .
URL:https://www.bsator.com/event/2019-girl-scout-collectors-show-state-north-carolina/
LOCATION:Trinity Reformed Church of Christ\, 217 2nd Ave NE\, Conover\, NC 28613
ATTACH;FMTTYPE=image/jpeg:https://www.bsator.com/wp-content/uploads/2018/12/46508259_10212729489408998_2116976435166969856_o.jpg
ORGANIZER;CN="Becky Byrns":MAILTO:GSShow@aol.com
GEO:35.709376;-81.214855
X-APPLE-STRUCTURED-LOCATION;VALUE=URI;X-ADDRESS=Trinity Reformed Church of Christ 217 2nd Ave NE Conover NC 28613;X-APPLE-RADIUS=500;X-TITLE=217 2nd Ave NE:geo:-81.214855,35.709376
END:VEVENT
BEGIN:VEVENT
DTSTART;TZID=UTC:20180316T160000
DTEND;TZID=UTC:20180317T140000
DTSTAMP:20260423T174350
CREATED:20180213T045715Z
LAST-MODIFIED:20180216T042752Z
UID:10000089-1521216000-1521295200@www.bsator.com
SUMMARY:2018 Girl Scout Collectors Show - State: North Carolina
DESCRIPTION:Date: March 16-17\, 2018 \nAddress:\nTrinity Reformed Church of Christ\n217 2nd Ave NE\nConover\, NC 28613 \nTimes:\nFriday: 4pm – 8pm\nSaturday: 9am – 2pm \nContact 1: Becky Byrns\nEmail: GSShow@aol.com\nPhone: (828) 569-2035 \nRegister Now\n\n    Download the PDF file .
URL:https://www.bsator.com/event/2018-girl-scout-collectors-show-state-north-carolina/
LOCATION:Trinity Reformed Church of Christ\, 217 2nd Ave NE\, Conover\, NC 28613
ATTACH;FMTTYPE=image/jpeg:https://www.bsator.com/wp-content/uploads/2018/02/12248221_10205327365280521_138635802398041903_o.jpg
ORGANIZER;CN="Becky Byrns":MAILTO:GSShow@aol.com
GEO:35.709376;-81.214855
X-APPLE-STRUCTURED-LOCATION;VALUE=URI;X-ADDRESS=Trinity Reformed Church of Christ 217 2nd Ave NE Conover NC 28613;X-APPLE-RADIUS=500;X-TITLE=217 2nd Ave NE:geo:-81.214855,35.709376
END:VEVENT
BEGIN:VEVENT
DTSTART;TZID=UTC:20170324T170000
DTEND;TZID=UTC:20170325T140000
DTSTAMP:20260423T174350
CREATED:20170307T101007Z
LAST-MODIFIED:20170307T101007Z
UID:10000174-1490374800-1490450400@www.bsator.com
SUMMARY:NC Girl Scout Collector's Show
DESCRIPTION:Download the PDF file .
URL:https://www.bsator.com/event/nc-girl-scout-collectors-show/
LOCATION:Trinity Reformed Church of Christ\, 217 2nd Ave NE\, Conover\, NC 28613
ATTACH;FMTTYPE=image/jpeg:https://www.bsator.com/wp-content/uploads/2016/06/16795211621_58cd4b063b_o.jpg.opt430x322o00s430x322.jpg
ORGANIZER;CN="Becky Byrns":MAILTO:GSShow@aol.com
GEO:35.709376;-81.214855
X-APPLE-STRUCTURED-LOCATION;VALUE=URI;X-ADDRESS=Trinity Reformed Church of Christ 217 2nd Ave NE Conover NC 28613;X-APPLE-RADIUS=500;X-TITLE=217 2nd Ave NE:geo:-81.214855,35.709376
END:VEVENT
BEGIN:VEVENT
DTSTART;TZID=UTC:20160923T170000
DTEND;TZID=UTC:20160924T150000
DTSTAMP:20260423T174350
CREATED:20160601T095229Z
LAST-MODIFIED:20160829T211211Z
UID:10000056-1474650000-1474729200@www.bsator.com
SUMMARY:Girl Scout Collectors Show - State: North Carolina
DESCRIPTION:Date: September 23-24\, 2016 \nAddress:\nTrinity Reformed Church of Christ\n217 2nd Ave NE\nConover\, NC 28613 \nTimes:\nFriday: 5pm – 9pm\nSaturday: 8am – 3pm \nContact 1: Becky Byrns\nEmail: GSShow@aol.com\nPhone: (828) 569-2035 \nFlyer: Click Here\n\nRegister Now \n\n    Download the PDF file .
URL:https://www.bsator.com/event/girl-scout-collectors-show-state-north-carolina/
LOCATION:Trinity Reformed Church of Christ\, 217 2nd Ave NE\, Conover\, NC 28613
ATTACH;FMTTYPE=image/jpeg:https://www.bsator.com/wp-content/uploads/2016/06/16795211621_58cd4b063b_o-1.jpg.opt430x322o00s430x322-1.jpg
ORGANIZER;CN="Becky Byrns":MAILTO:GSShow@aol.com
GEO:35.709376;-81.214855
X-APPLE-STRUCTURED-LOCATION;VALUE=URI;X-ADDRESS=Trinity Reformed Church of Christ 217 2nd Ave NE Conover NC 28613;X-APPLE-RADIUS=500;X-TITLE=217 2nd Ave NE:geo:-81.214855,35.709376
END:VEVENT
END:VCALENDAR