BEGIN:VCALENDAR
VERSION:2.0
PRODID:-//Boy Scout Trade-O-Ree Calendar - ECPv6.15.20//NONSGML v1.0//EN
CALSCALE:GREGORIAN
METHOD:PUBLISH
X-WR-CALNAME:Boy Scout Trade-O-Ree Calendar
X-ORIGINAL-URL:https://www.bsator.com
X-WR-CALDESC:Events for Boy Scout Trade-O-Ree Calendar
REFRESH-INTERVAL;VALUE=DURATION:PT1H
X-Robots-Tag:noindex
X-PUBLISHED-TTL:PT1H
BEGIN:VTIMEZONE
TZID:UTC
BEGIN:STANDARD
TZOFFSETFROM:+0000
TZOFFSETTO:+0000
TZNAME:UTC
DTSTART:20170101T000000
END:STANDARD
END:VTIMEZONE
BEGIN:VEVENT
DTSTART;TZID=UTC:20180728T090000
DTEND;TZID=UTC:20180803T010000
DTSTAMP:20260423T220316
CREATED:20180113T054203Z
LAST-MODIFIED:20180418T024039Z
UID:10000225-1532768400-1533258000@www.bsator.com
SUMMARY:2018 National OA Conference NOAC Trade-O-Ree - State: Indiana
DESCRIPTION:View Pictures From The 2015 NOAC\n\n\n\n\n \n\n\n\n\nDate: July 28-30\, 2018 \nAddress:\nTwin Lakes Recreation Center\n1700 W. Bloomfield Rd.\nBloomington\, IN 47403 \nTimes:\nSaturday: 9am – 11pm\nSunday: 9am – 11pm\nMonday: 9am – 11pm \nContact 1: Chris Jensen\nEmail: cjensen@streamwood.net\nPhone: (864) 859-2915\n\n2018 Pre-NOAC Trade-O-Ree\n\n \n\n\n\n \n\n\n\n\nDate: July 30 – August 3\, 2018 \nAddress:\nHOLIDAY INN\n1710 N. KINSER PIKE\nBLOOMINGTON\, IN 47404 \nTimes:\nMonday: 2pm – 1am\nTuesday: 2pm – 1am\nWednesday: 2pm – 1am\nThursday: 2pm – 1am\nFriday: 2pm – 1am \nContact 1: Roger Ward\nEmail: flpatches@aol.com\nPhone: (941) 525-6426\n\n2018 Patch Trade-O-Ree During NOAC\nIn The Kinser-Monroe Ball Room. 2 Blocks From The IU Campus.\nFREE Entry\, and Parking\nCome Enjoy Patch Trading In The Air Conditioning Of This\n5 Star Holiday Inn Hotel In Bloomington\, Indiana.\nOnly Two Blocks From The IU Memorial Stadium On Campus.\nContingent Buses\, NOAC Participants\, and NOAC Visitors\nWelcome Daily!\nA Siesta Beach Trading Company\, SBTC\, Sponsored Event.\n\n \n\n\n\n\n\n\n\n \nTable Reservations and Availability\n\n\n\n\n\n \nPre-NOAC Trade-O-Ree Flyer\n\n\n    Download the PDF file . \n\n\n \nPre-NOAC Trade-O-Ree Table Layout\n\n\n    Download the PDF file . \n\n\n \nPatch Trade-O-Ree During NOAC 2018 Flyer\n\n\n    Download the PDF file . \n\n\n \nOrder of the Arrow Memorabilia Auction During NOAC\n\n\n    Download the PDF file . \n\n\n \nGet Your Patch Trading Blanket Today\n\n\n    Download the PDF file . \n \n\n\n\n\n\n\n\n\n\n\n \nClick Here To Order
URL:https://www.bsator.com/event/2018-national-oa-conference-monster-trade-o-ree-state-indiana/
LOCATION:Twin Lakes Recreation Center\, 1700 W. Bloomfield Rd.\, Bloomington\, IN\, 47403\, United States
ATTACH;FMTTYPE=image/jpeg:https://www.bsator.com/wp-content/uploads/2016/05/11831787_10207872344074322_8562691434846324068_n.jpg
ORGANIZER;CN="Chris Jensen":MAILTO:cjensen@streamwood.net
END:VEVENT
END:VCALENDAR