BEGIN:VCALENDAR
VERSION:2.0
PRODID:-//Boy Scout Trade-O-Ree Calendar - ECPv6.15.20//NONSGML v1.0//EN
CALSCALE:GREGORIAN
METHOD:PUBLISH
X-WR-CALNAME:Boy Scout Trade-O-Ree Calendar
X-ORIGINAL-URL:https://www.bsator.com
X-WR-CALDESC:Events for Boy Scout Trade-O-Ree Calendar
REFRESH-INTERVAL;VALUE=DURATION:PT1H
X-Robots-Tag:noindex
X-PUBLISHED-TTL:PT1H
BEGIN:VTIMEZONE
TZID:UTC
BEGIN:STANDARD
TZOFFSETFROM:+0000
TZOFFSETTO:+0000
TZNAME:UTC
DTSTART:20220101T000000
END:STANDARD
END:VTIMEZONE
BEGIN:VEVENT
DTSTART;TZID=UTC:20231202T080000
DTEND;TZID=UTC:20231202T160000
DTSTAMP:20260423T194505
CREATED:20231025T180802Z
LAST-MODIFIED:20231208T080135Z
UID:10000504-1701504000-1701532800@www.bsator.com
SUMMARY:Pine Island Scout Trade-O-Ree - State: Minnesota
DESCRIPTION:Date: December 2\, 2023 \nAddress:\nUnited Methodist Church\n200 N. Main St.\nPine Island\, MN 55963 \nTimes:\nSaturday: 8am – 4pm \nContact: Evan Goranson\nEmail: egoranson.scout@gmail.com\nPhone: (507) 601-9115 \n\n \nTrade-O-Ree Flyer\n\n\n    Download the PDF file .
URL:https://www.bsator.com/event/pine-island-scout-trade-o-ree-state-minnesota/
LOCATION:United Methodist Church\, 200 N. Main St.\, Pine Island\, MN\, 55963\, United States
ATTACH;FMTTYPE=image/jpeg:https://www.bsator.com/wp-content/uploads/2023/10/406777208_339220862057389_9007983769159976118_n.jpg
ORGANIZER;CN="Evan Goranson":MAILTO:egoranson.scout@gmail.com
END:VEVENT
END:VCALENDAR