BEGIN:VCALENDAR
VERSION:2.0
PRODID:-//Boy Scout Trade-O-Ree Calendar - ECPv6.15.20//NONSGML v1.0//EN
CALSCALE:GREGORIAN
METHOD:PUBLISH
X-ORIGINAL-URL:https://www.bsator.com
X-WR-CALDESC:Events for Boy Scout Trade-O-Ree Calendar
REFRESH-INTERVAL;VALUE=DURATION:PT1H
X-Robots-Tag:noindex
X-PUBLISHED-TTL:PT1H
BEGIN:VTIMEZONE
TZID:UTC
BEGIN:STANDARD
TZOFFSETFROM:+0000
TZOFFSETTO:+0000
TZNAME:UTC
DTSTART:20150101T000000
END:STANDARD
END:VTIMEZONE
BEGIN:VEVENT
DTSTART;TZID=UTC:20160520T080000
DTEND;TZID=UTC:20160521T170000
DTSTAMP:20260423T184842
CREATED:20160601T084845Z
LAST-MODIFIED:20160616T132935Z
UID:10000080-1463731200-1463850000@www.bsator.com
SUMMARY:2nd Annual Jonesboro Trade-O-Ree State: Arkansas
DESCRIPTION:Address:\nValley Ridge Baptist Church (Fellowship Hall)\n1707 Christian Valley Drive\nJonesboro\, AR 72404 \nTimes:\nFriday: 4:13pm – 10pm\nSaturday: 9am – 2pm \nContact 1: Scott Lane\nEmail: JonesboroTOR@gmail.com\nPhone: (870) 931-1399 (Home)\nPhone: (870) 930-0605 (Cell) \nContact 2: Lynn White\nEmail: ?\nPhone: (870) 919-1668 \nFlyer: Click Here\nMap View: Click Here \n\n				\n				\n				\n				\n				Register now
URL:https://www.bsator.com/event/2nd-annual-jonesboro-trade-o-ree-state-arkansas/
LOCATION:Valley Ridge Baptist Church (Fellowship Hall)\,  1707 Christian Valley Drive\, Jonesboro\, AR 72404
ATTACH;FMTTYPE=image/jpeg:https://www.bsator.com/wp-content/uploads/2016/06/11265363_10152968948747523_6212496107205934845_n-768x576.jpg
GEO:35.7781665;-90.7313439
X-APPLE-STRUCTURED-LOCATION;VALUE=URI;X-ADDRESS=Valley Ridge Baptist Church (Fellowship Hall)  1707 Christian Valley Drive Jonesboro AR 72404;X-APPLE-RADIUS=500;X-TITLE=1707 Christian Valley Drive:geo:-90.7313439,35.7781665
END:VEVENT
END:VCALENDAR