BEGIN:VCALENDAR
VERSION:2.0
PRODID:-//Boy Scout Trade-O-Ree Calendar - ECPv6.15.20//NONSGML v1.0//EN
CALSCALE:GREGORIAN
METHOD:PUBLISH
X-ORIGINAL-URL:https://www.bsator.com
X-WR-CALDESC:Events for Boy Scout Trade-O-Ree Calendar
REFRESH-INTERVAL;VALUE=DURATION:PT1H
X-Robots-Tag:noindex
X-PUBLISHED-TTL:PT1H
BEGIN:VTIMEZONE
TZID:UTC
BEGIN:STANDARD
TZOFFSETFROM:+0000
TZOFFSETTO:+0000
TZNAME:UTC
DTSTART:20160101T000000
END:STANDARD
END:VTIMEZONE
BEGIN:VEVENT
DTSTART;TZID=UTC:20180810T170000
DTEND;TZID=UTC:20180810T230000
DTSTAMP:20260423T204610
CREATED:20171206T013902Z
LAST-MODIFIED:20171206T015723Z
UID:10000210-1533920400-1533942000@www.bsator.com
SUMMARY:2018 Patrick Henry Trade-O-Ree - State: Virginia
DESCRIPTION:Date: August 10\, 2018 \nAddress:\nFirst Baptist Church\n23 Starling Ave.\nMartinsville\, VA 24112 \nTimes:\nFriday: 5pm – 11pm \nContact 1: Steve Isom\nEmail: sisom_161@yahoo.com\nPhone: (276) 627-0600 \n\n    Download the PDF file .
URL:https://www.bsator.com/event/2018-patrick-henry-trade-o-ree-state-virginia/
LOCATION:First Baptist Church\, 23 Starling Ave.\, Martinsville\, VA\, 24112\, United States
ATTACH;FMTTYPE=image/jpeg:https://www.bsator.com/wp-content/uploads/2016/06/SWAPSHOP_zpsd7821994-4-1.jpg.opt430x360o00s430x360-4-1.jpg
ORGANIZER;CN="Steve Isom":MAILTO:sisom_161@yahoo.com
GEO:36.6870335;-79.8646802
X-APPLE-STRUCTURED-LOCATION;VALUE=URI;X-ADDRESS=First Baptist Church 23 Starling Ave. Martinsville VA 24112 United States;X-APPLE-RADIUS=500;X-TITLE=23 Starling Ave.:geo:-79.8646802,36.6870335
END:VEVENT
BEGIN:VEVENT
DTSTART;TZID=UTC:20170825T170000
DTEND;TZID=UTC:20170825T230000
DTSTAMP:20260423T204610
CREATED:20170221T072817Z
LAST-MODIFIED:20171206T013650Z
UID:10000170-1503680400-1503702000@www.bsator.com
SUMMARY:Patrick Henry Trade-O-Ree - State: Virginia
DESCRIPTION:Date: August 25\, 2017 \nAddress:\nFirst Baptist Church\n23 Starling Ave.\nMartinsville\, VA 24112 \nTimes:\nFriday: 5pm – 11pm \nContact 1: Steve Isom\nEmail: sisom_161@yahoo.com\nPhone: (276) 627-0600 \n\n    Download the PDF file .
URL:https://www.bsator.com/event/patrick-henry-trade-o-ree-state-virginia-2/
LOCATION:First Baptist Church\, 23 Starling Ave.\, Martinsville\, VA\, 24112\, United States
ATTACH;FMTTYPE=image/jpeg:https://www.bsator.com/wp-content/uploads/2016/06/SWAPSHOP_zpsd7821994-4-1.jpg.opt430x360o00s430x360-4-1.jpg
ORGANIZER;CN="Steve Isom":MAILTO:sisom_161@yahoo.com
GEO:36.6870335;-79.8646802
X-APPLE-STRUCTURED-LOCATION;VALUE=URI;X-ADDRESS=First Baptist Church 23 Starling Ave. Martinsville VA 24112 United States;X-APPLE-RADIUS=500;X-TITLE=23 Starling Ave.:geo:-79.8646802,36.6870335
END:VEVENT
END:VCALENDAR